BEGIN:VCALENDAR
VERSION:2.0
PRODID:-//ChamberMaster//Event Calendar 2.0//EN
METHOD:PUBLISH
X-PUBLISHED-TTL:P3D
REFRESH-INTERVAL:P3D
CALSCALE:GREGORIAN
BEGIN:VEVENT
DTSTART:20240216T003000Z
DTEND:20240216T023000Z
X-MICROSOFT-CDO-ALLDAYEVENT:FALSE
SUMMARY:Central Netmixer
DESCRIPTION:Join us in Central Phoenix for our monthly mixer.    \n\nIt will include a cash bar plus free appetizers at one of our favorite member locations\, Valentine. \n\nYou can also enter the raffle to win fun prizes!
X-ALT-DESC;FMTTYPE=text/html:Join us in Central Phoenix for our monthly mixer.&nbsp\;&nbsp\;&nbsp\;&nbsp\;<br />\nIt will include a cash bar plus free appetizers at one of our favorite member locations\, Valentine.&nbsp\;<br />\nYou can also enter the raffle to win fun prizes!&nbsp\; &nbsp\; &nbsp\; &nbsp\; &nbsp\;&nbsp\;
LOCATION:Valentine 4130 N 7th Ave Phoenix\, AZ 85013
UID:e.2837.1047
SEQUENCE:3
DTSTAMP:20260424T043304Z
URL:http://phoenixgaycc.chambermaster.com/events/details/central-netmixer-1047
END:VEVENT

END:VCALENDAR
