BEGIN:VCALENDAR
VERSION:2.0
PRODID:-//ChamberMaster//Event Calendar 2.0//EN
METHOD:PUBLISH
X-PUBLISHED-TTL:P3D
REFRESH-INTERVAL:P3D
CALSCALE:GREGORIAN
BEGIN:VEVENT
DTSTART:20240517T003000Z
DTEND:20240517T023000Z
X-MICROSOFT-CDO-ALLDAYEVENT:FALSE
SUMMARY:Central Netmixer
DESCRIPTION:Join us in Central Phoenix for our monthly mixer.    \n\nIt will include a cash bar plus free appetizers from Lovebite at one of our newest member locations: Dialog\n\nYou can also enter the raffle to win fun prizes!
X-ALT-DESC;FMTTYPE=text/html:Join us in Central Phoenix for our monthly mixer.&nbsp\;&nbsp\;&nbsp\;&nbsp\;<br />\nIt will include a cash bar plus free appetizers from Lovebite at one of our newest member locations: Dialog<br />\nYou can also enter the raffle to win fun prizes!&nbsp\; &nbsp\; &nbsp\; &nbsp\; &nbsp\;&nbsp\;
LOCATION:Dialog 1001 N Central Ave Phoenix\, AZ 85004
UID:e.2837.1663
SEQUENCE:3
DTSTAMP:20260422T223909Z
URL:http://phoenixgaycc.chambermaster.com/events/details/central-netmixer-1663
END:VEVENT

END:VCALENDAR
