BEGIN:VCALENDAR
VERSION:2.0
PRODID:-//ChamberMaster//Event Calendar 2.0//EN
METHOD:PUBLISH
X-PUBLISHED-TTL:P3D
REFRESH-INTERVAL:P3D
CALSCALE:GREGORIAN
BEGIN:VEVENT
DTSTART:20240322T003000Z
DTEND:20240322T023000Z
X-MICROSOFT-CDO-ALLDAYEVENT:FALSE
SUMMARY:Central Netmixer
DESCRIPTION:Join us in Central Phoenix for our monthly mixer. This will be a great opportunity to meet your LGBTQ+ legislators in a relaxed setting.    \n\nIt will include a cash bar plus free appetizers at one of our newest member locations: GenuWine\n\nYou can also enter the raffle to win fun prizes!
X-ALT-DESC;FMTTYPE=text/html:Join us in Central Phoenix for our monthly mixer. This will be a great opportunity to meet your LGBTQ+ legislators in a relaxed setting.&nbsp\; &nbsp\;&nbsp\;<br />\nIt will include a cash bar plus free appetizers at one of our newest member locations: GenuWine<br />\nYou can also enter the raffle to win fun prizes!&nbsp\; &nbsp\; &nbsp\; &nbsp\; &nbsp\;&nbsp\;
LOCATION:GenuWine Arizona 888 N 1st Ave #101 Phoenix\, AZ 85003
UID:e.2837.1668
SEQUENCE:3
DTSTAMP:20260423T233618Z
URL:http://phoenixgaycc.chambermaster.com/events/details/central-netmixer-1668
END:VEVENT

END:VCALENDAR
