BEGIN:VCALENDAR
VERSION:2.0
PRODID:-//ChamberMaster//Event Calendar 2.0//EN
METHOD:PUBLISH
X-PUBLISHED-TTL:P3D
REFRESH-INTERVAL:P3D
CALSCALE:GREGORIAN
BEGIN:VEVENT
DTSTART:20240719T003000Z
DTEND:20240719T023000Z
X-MICROSOFT-CDO-ALLDAYEVENT:FALSE
SUMMARY:Central NetMixer
DESCRIPTION:Join us in Central Phoenix for our monthly mixer. We are partnering with Phoenix BMO for this event. Come see all of the resources they have for the community. You can also enter the raffle to win fun prizes!
X-ALT-DESC;FMTTYPE=text/html:Join us in Central Phoenix for our monthly mixer. We are partnering with Phoenix BMO for this event. Come see all of the resources they have for the community. You can also enter the raffle to win fun prizes!&nbsp\;
LOCATION:BMO Bank 51 E Camelback Rd Phoenix\, AZ
UID:e.2837.1703
SEQUENCE:3
DTSTAMP:20260420T004159Z
URL:http://phoenixgaycc.chambermaster.com/events/details/central-netmixer-1703
END:VEVENT

END:VCALENDAR
