BEGIN:VCALENDAR
VERSION:2.0
PRODID:-//ChamberMaster//Event Calendar 2.0//EN
METHOD:PUBLISH
X-PUBLISHED-TTL:P3D
REFRESH-INTERVAL:P3D
CALSCALE:GREGORIAN
BEGIN:VEVENT
DTSTART:20251116T150000Z
DTEND:20251116T180000Z
X-MICROSOFT-CDO-ALLDAYEVENT:FALSE
SUMMARY:Phx Pride Community Unity 5K
DESCRIPTION:Phoenix Pride \n\nSuport. Engage. Empower. \n\n\n\nEvery step helps fund scholarships for students and grants for nonprofits through the Phoenix Pride Community Foundation's Scholarship\, Community Grants\, and Partnerships Grants Programs. \n\n\n\nWHAT YOU NEED TO KNOW\n\n	All ages and fitness levels are welcome!\n	Participants will receive a race bib\, commemorative t-shirt\, & finisher's medal. \n	Registration Fee: $40 through October 19\, 2025 & $45 after\n	Distance: 5K
X-ALT-DESC;FMTTYPE=text/html:Phoenix Pride&nbsp\;<br />\nSuport. Engage. Empower.&nbsp\;<br />\n<br />\nEvery step helps fund scholarships for students and grants for nonprofits through the Phoenix Pride Community Foundation&#39\;s Scholarship\, Community Grants\, and Partnerships Grants Programs.&nbsp\;<br />\n<br />\n<strong>WHAT YOU NEED TO KNOW</strong>\n<ul>\n	<li>All ages and fitness levels are welcome!</li>\n	<li>Participants will receive a race bib\, commemorative t-shirt\, &amp\; finisher&#39\;s medal.&nbsp\;</li>\n	<li>Registration Fee: $40 through October 19\, 2025 &amp\; $45 after</li>\n	<li>Distance: 5K</li>\n</ul>\n
LOCATION:Charlie's Phoenix 727 W Camelback Rd Phoenix\, AZ
UID:e.2837.4966
SEQUENCE:3
DTSTAMP:20260424T223204Z
URL:http://phoenixgaycc.chambermaster.com/events/details/phx-pride-community-unity-5k-4966
END:VEVENT

END:VCALENDAR
