BEGIN:VCALENDAR
VERSION:2.0
PRODID:-//ChamberMaster//Event Calendar 2.0//EN
METHOD:PUBLISH
X-PUBLISHED-TTL:P3D
REFRESH-INTERVAL:P3D
CALSCALE:GREGORIAN
BEGIN:VEVENT
DTSTART:20240627T190000Z
DTEND:20240627T190000Z
X-MICROSOFT-CDO-ALLDAYEVENT:FALSE
SUMMARY:Spanish Wine Tasting
DESCRIPTION:Join us anytime between 6-8pm for our Spanish Wine Tasting to learn about 3 wines from Spain! FREE for Wine Club Members and just $10 for non-members!
X-ALT-DESC;FMTTYPE=text/html:<div class="page" style="caret-color: rgb(0\, 0\, 0)\; color: rgb(0\, 0\, 0)\;" title="Page 1">\n<div class="section">\n<div class="layoutArea">\n<div class="column">\n<p><span style="font-size: 12pt\; font-family: BreeSerif\;">Join us anytime between 6-8pm for our Spanish Wine Tasting&nbsp\;</span><span style="font-size: 12pt\; font-family: BreeSerif\; color: rgb(60\, 64\, 67)\;">to learn about 3 wines from Spain!&nbsp\;</span><span style="font-size: 12pt\; font-family: BreeSerif\;">FREE for Wine Club Members and just $10 for non-members!</span></p>\n</div>\n</div>\n</div>\n</div>\n
LOCATION:GenuWine Arizona 888 N 1st Ave Unit 101 Phoenix\, AZ 85003
UID:e.2837.1829
SEQUENCE:3
DTSTAMP:20260423T045936Z
URL:http://phoenixgaycc.chambermaster.com/events/details/spanish-wine-tasting-1829
END:VEVENT

END:VCALENDAR
